Workbook
Name bc_10: #REF!
Name bc_10: #REF!
Name bc_10: #REF!
Name bc_10: #REF!
Name bc_10: #REF!
Name bc_6: #REF!
Name bc_6: #REF!
Name bc_6: #REF!
Name bc_6: #REF!
Name bc_6: #REF!
Name sd: #REF!
Name sd: #REF!
Name sd: #REF!
Name sd: #REF!
Name sd: #REF!
Name Year: #REF!
Name Year: #REF!
Name Year: #REF!
Name Year: #REF!
Name Year: #REF!
Name Year: #REF!
Name Year: #REF!
Name Брутна_печалба: #REF!
Name Брутна_печалба: #REF!
Name Брутна_печалба: #REF!
Name Брутна_печалба: #REF!
Name Брутна_печалба: #REF!
Name Брутна_печалба: #REF!
Name Брутна_печалба: #REF!
Name Вземания_по_ДДС: #REF!
Name Вземания_по_ДДС: #REF!
Name Вземания_по_ДДС: #REF!
Name Вземания_по_ДДС: #REF!
Name Вземания_по_ДДС: #REF!
Name Вземания_по_ДДС: #REF!
Name Вземания_по_ДДС: #REF!
Name Внесен_ДДС: #REF!
Name Внесен_ДДС: #REF!
Name Внесен_ДДС: #REF!
Name Внесен_ДДС: #REF!
Name Внесен_ДДС: #REF!
Name Внесен_ДДС: #REF!
Name Внесен_ДДС: #REF!
Name ВС_1: #REF!
Name ВС_1: #REF!
Name ВС_1: #REF!
Name ВС_1: #REF!
Name ВС_1: #REF!
Name ВС_1: #REF!
Name ВС_1: #REF!
Name ВС_2: #REF!
Name ВС_2: #REF!
Name ВС_2: #REF!
Name ВС_2: #REF!
Name ВС_2: #REF!
Name ВС_2: #REF!
Name ВС_2: #REF!
Name ВС_3: #REF!
Name ВС_3: #REF!
Name ВС_3: #REF!

Sheet ПИП 2026 ДЪРЖАВНА
A1: ПОДРОБНА ИНВЕСТИЦИОННА ПРОГРАМА ЗА 2026 г.
A4: № | B4: Собственик | C4: Вид собственост | D4: Допълнителна информация | E4: Вид на актива (сграда/съоръжение/ВиК инфраструктура/оборудване) | F4: Вид дейност (реконструкция/нов актив) | G4: Индикативна стойност (хил. €) | H4: Стойност по Договор (хил. €)
B6: ДЪРЖАВНА СОБСТВЕНОСТ ОБЛАСТ ТЪРГОВИЩЕ
A7: 1 | B7: ВОДОСНАБДЯВАНЕ: | G7: =SUM(G8:G27) -> 30 | H7: 31.700097
A8: 1.1 | B8: Сондажи и каптажи | C8: ПДС | D8: Ремонт и реконструкциа на водовземни съоръжения | E8: Съоръжение | F8: Реконструкция
A9: 1.2 | B9: Санитарно-охранителни зони | C9: ПДС | D9: Рехабилитация и изграждане на нови | E9: Съоръжение | F9: Нов актив
D10: Рехабилитация на СОЗ на Облекчителен резервоар №2 към ПС "Кънино" | E10: Съоръжение | F10: Нов актив | G10: 4
A11: 1.3 | B11: Довеждащи съоръжения | C11: ПДС | D11: Реконструкция на Облекчителен резервоар №2 към ПС "Кънино" | E11: Съоръжение | F11: Реконструкция | G11: 6
A12: 1.4 | B12: Пречиствателни станции за питейни води | C12: ПДС | D12: Реконструкция | E12: Съоръжение | F12: Реконструкция
A13: 1.5 | B13: Хлораторни станциии | C13: ПДС | D13: Рехабилитация и изграждане на нови сгради,съоръжения и оборудване | E13: Съоръжение | F13: Рехабилитация/нов актив
A14: 1.6 | B14: Помпени станции | C14: ПДС | D14: Рехабилитация и изграждане на нови сгради,съоръжения и оборудване | E14: сгради,съоръжения и оборудване | F14: Реконструкция
A15: 1.6.1 | D15: Доставка и монтаж на ПА в ПС "Баш Бунар" -с. Крепча | E15: Съоръжение | F15: Нов актив | G15: 11
A16: 1.6.3 | D16: Реконструкция на "система за борба с хидравличния удар" | E16: Съоръжение | F16: Реконструкция | G16: 4
A17: 1.7 | B17: Рехабилитация и разширение на водопроводната мрежа над 10 м | C17: ПДС | D17: Рехабилитация и разширение на вътрешна водопроводна мрежа | E17: Съоръжение | F17: Рехабилитация
A18: 1.8 | B18: Сградни водопроводни отклонения | C18: ПДС | D18: Подмяна и изграждане на нови. | E18: ВиК инфраструктура | F18: Реконструкция/нов актив
A19: 1.9 | B19: Кранове и хидранти | C19: ПДС | D19: Подмяна на съществуващи и монтаж на нови СК и ПХ (в случаите, когато подмяната им не е част от реконструкция на ВиК мрежата) | E19: ВиК инфраструктура | F19: Реконструкция
A20: 1.1 | B20: Измерване на вход ВС | C20: ПДС | D20: Подмяна на съществуващи и монтаж на нови водомери, водомерни шахти и възли на водоизточници | E20: Съоръжение | F20: Реконструкция/нов актив
A21: 1.11 | B21: Зониране на водопроводната мрежа-контролно измерване | C21: ПДС | D21: Подмяна на съществуващи и монтаж на нови водомери, шахти и водомерни възли на водомерни зони | E21: Съоръжение | F21: Реконструкция/нов актив
A22: 1.12 | B22: Управление на налягането | C22: ПДС | D22: Подмяна на съществуващи и монтаж на нови регулатори за налягане | E22: ВиК инфраструктура | F22: Нов актив
A23: 1.13 | B23: Проучване и моделиране на водопроводната мрежа | C23: ПДС | D23: Разходи за персонал, външни услуги и СМР за проучване и моделиране
A24: 1.14 | B24: СКАДА за водоснабдяване | C24: ПДС | D24: Разширение на СКАДА и оборудване | E24: Съоръжение | F24: Нов актив
A25: 1.14.1 | D25: Преинсталация-обновяване на СКАДА на НВ "Лисец" гр.Омуртаг, на ВС "Кипилово" | E25: Съоръжение | F25: Реконструкция | G25: 3
A26: 1.14.2 | D26: Разширение на ИС (информационна система) LoRaWAN, обект:Измерване на налягане и разход за целите на експлоатация - УЗР с. Равно село | E26: Съоръжение | F26: Реконструкция | G26: 2
A27: 1.15 | B27: Оборудване, апаратура и машини за водоснабдяване | C27: ПОС | D27: Друго специализирано оборудване за водоснабдяване | E27: Съоръжение | F27: Нов актив
A29: 2 | B29: ОТВЕЖДАНЕ НА ОТПАДЪЧНИ ВОДИ: | G29: =SUM(G30:G35) -> 0 | H29: 0
A30: 2.1 | B30: Канализационни помпени станции | C30: ПДС | D30: сгради,съоръжения | E30: Съоръжение | F30: Рехабилитация
A31: 2.2 | B31: Рехабилитация и разширение на главни канализационни колектори и клонове | C31: ПДС | D31: реконструкции и изграждане на главни канализационни колектори и клонове | E31: Съоръжение | F31: Рехабилитация
A32: 2.3 | B32: Рехабилитация и разширение на канализационната мрежа над 10 м | C32: ПДС | D32: реконструкции и изграждане на нови канали над 10 м | E32: Съоръжение | F32: Рехабилитация
A33: 2.4 | B33: Сградни канализационни отклонения | C33: ПДС | D33: Подмяна и изграждане на нови. | E33: ВиК инфраструктура | F33: Реконструкция/нов актив
A34: 2.5 | B34: СКАДА за отвеждане на отпадъчни води | C34: ПДС | D34: разширение на СКАДА и оборудване | E34: Съоръжение | F34: Нов актив
A35: 2.6 | B35: Проучване и моделиране на канализационната мрежа | C35: ПДС | D35: разходи за персонал, външни услуги и СМР за проучване и моделиране | E35: ВиК инфраструктура
A37: 3 | B37: ПРЕЧИСТВАНЕ НА ОТПАДЪЧНИ ВОДИ: | G37: =SUM(G38:G40) -> 0 | H37: 0
A38: 3.1 | B38: Пречиствателни станции за отпадъчни води | C38: ПДС | D38: сгради, съоръжения | E38: Съоръжение | F38: Рехабилитация
A39: 3.2 | B39: Лаборатория за отпадъчни води | C39: ПДС | D39: апаратура и оборудване | E39: Съоръжение | F39: Нов актив
A40: 3.3 | B40: СКАДА за пречистване на отпадъчни води | C40: ПДС | D40: разширение на СКАДА и оборудване | E40: Съоръжение | F40: Нов актив
B42: ОБСЛУЖВАНЕ НА КЛИЕНТИ: | G42: 0 | H42: 0
B43: Приходни водомери | D43: Подмяна на съществуващи и монтаж на нови приходни водомери на СВО, шахти и водомерни възли
A45: Общо инвестиции в ПДС : | G45: =G7+G29+G37+G42 -> 30 | H45: =H7+H29+H37+H42 -> 31.700097
A46: Общо за инвестиции за 2026г.:
A48: За срока на Договора за стопанисване, поддържане и експлоатация на ВиК системите и съоръженията и предоставяне на водоснабдителни и канализационни услуги Дружеството ще изпълни задължителното ниво на инвестиции.
A52: 26.03.2026 г. | E52: Изготвил:
F53: /Марин Бъчваров/
E56: Управител:
F57: /инж.Явор Миланов/

Sheet ПИП 2026 ОБЩ.ТЪРГОВИЩЕ
A1: ПОДРОБНА ИНВЕСТИЦИОННА ПРОГРАМА ЗА 2026 г.
A4: № | B4: Собственик | C4: Вид собственост | D4: Допълнителна информация | E4: Вид на актива (сграда/съоръжение/ВиК инфраструктура/оборудване) | F4: Вид дейност (реконструкция/нов актив) | G4: Индикативна стойност (хил. €) | H4: Стойност по Договор (хил. €)
B6: ОБЩИНСКА СОБСТВЕНОСТ ОБЩИНА ТЪРГОВИЩЕ | I6: метра/бр. | J6: лв/м от 2023 г. | K6: стойност
A7: 1 | B7: ВОДОСНАБДЯВАНЕ: | G7: =SUM(G8:G32) -> 129.68852 | H7: 99.701917 | K7: =G7-H7 -> 29.986601
A8: 1.1 | B8: Сондажи и каптажи | C8: ПОС | D8: Ремонт и реконструкциа на водовземни съоръжения | E8: Съоръжение | F8: Реконструкция
A9: 1.2 | B9: Санитарно-охранителни зони | C9: ПОС | D9: Рехабилитация и изграждане на нови | E9: Съоръжение | F9: Нов актив
A10: 1.2.1 | D10: Рехабилитация на санитарно-охранителни зони около на каптиран извор „Калинови извори“ , каптиран извор „Кучкарника 1“ и каптиран извор „Кучкарника 2“ от водоснабдителна система (ВС) „Разбойна“ | E10: ВиК инфраструктура | F10: Рехабилитация | G10: 2
A11: 1.3 | B11: Довеждащи съоръжения | C11: ПОС | D11: Реконструкции и изграждане на нови довеждащи водопроводи | E11: Съоръжение | F11: Реконструкция/нов актив
A12: 1.3.1 | D12: Реконструкция на довеждащ водопровод Ø80АЦ от БПС Подгорица до водоем | E12: ВиК инфраструктура | F12: Рехабилитация | G12: 29 | I12: 736 | J12: 22 | K12: =I12*J12 -> 16192 | L12: обща дължина 2500 м, реконструирани са 1764 м, остават 736 м
A13: 1.3.2 | D13: Рехабилитация на довеждащ водопровод ф150АЦ с.Търновца - от разпределителна шахта до НВ | E13: ВиК инфраструктура | F13: Рехабилитация | G13: 19.6 | I13: 1500 | J13: 22 | K13: =I13*J13 -> 33000 | L13: обща дължина 2959 м
A14: 1.4 | B14: Пречиствателни станции за питейни води | C14: ПОС | D14: Реконструкция | E14: Съоръжение | F14: Реконструкция
A15: 1.5 | B15: Хлораторни станциии | C15: ПОС | D15: Рехабилитация и изграждане на нови сгради,съоръжения и оборудване | E15: Съоръжение | F15: Рехабилитация/нов актив
A16: 1.5.1.
A17: 1.6 | B17: Помпени станции | C17: ПОС | D17: Рехабилитация и изграждане на нови сгради,съоръжения и оборудване | E17: сгради,съоръжения и оборудване | F17: Реконструкция
A18: 1.6.1 | D18: Осигуряване на технологични параметри (дебит, налягане/напор) на ПА-6 SAER на ПС "Преслав" | E18: Оборудване | F18: Реконструкция | G18: 5
A19: 1.6.2 | D19: Монтиране на хидравлика на ПА - 5 в ПС "Преслав", общ.Търговище | E19: Оборудване | F19: Реконструкция | G19: 25
A20: 1.7 | B20: Рехабилитация и разширение на водопроводната мрежа над 10 м | C20: ПОС | D20: Рехабилитация и разширение на вътрешна водопроводна мрежа | E20: Съоръжение | F20: Рехабилитация
A21: 1.7.2 | D21: Изграждане на водопровод Ø90 РЕ100 в с.Разбойна, общ.Търговище | E21: ВиК инфраструктура | F21: Нов актив | G21: 11.657455
A22: 1.8 | B22: Сградни водопроводни отклонения | C22: ПОС | D22: Подмяна и изграждане на нови. | E22: ВиК инфраструктура | F22: Реконструкция/нов актив
A23: 1.8.1 | D23: Изграждане на нови СВО | E23: ВиК инфраструктура | F23: Нов актив | G23: 12.884555 | I23: 31 | J23: 1100 | K23: =I23*J23 -> 34100
A24: 1.8.2 | D24: Рехабилитация на съществуващи СВО | E24: ВиК инфраструктура | F24: Реконструкция | G24: 18.406508 | I24: 9 | J24: 900 | K24: =I24*J24 -> 8100
A25: 1.9 | B25: Кранове и хидранти | C25: ПОС | D25: Подмяна на съществуващи и монтаж на нови СК и ПХ (в случаите, когато подмяната им не е част от реконструкция на ВиК мрежата) | E25: ВиК инфраструктура | F25: Нови обекти и Реконструкция
A26: 1.9.1 | D26: Монтаж на ПХ | E26: ВиК инфраструктура | F26: Нов актив | G26: 6.14
A27: 1.10 | B27: Измерване на вход ВС | C27: ПОС | D27: Подмяна на съществуващи и монтаж на нови водомери, водомерни шахти и възли на водоизточници | E27: Съоръжение | F27: Реконструкция/нов актив
A28: 1.11 | B28: Зониране на водопроводната мрежа-контролно измерване | C28: ПОС | D28: Подмяна на съществуващи и монтаж на нови водомери, шахти и водомерни възли на водомерни зони | E28: Съоръжение | F28: Реконструкция/нов актив
A29: 1.12 | B29: Управление на налягането | C29: ПОС | D29: Подмяна на съществуващи и монтаж на нови регулатори за налягане | E29: ВиК инфраструктура | F29: Нов актив
A30: 1.13 | B30: Проучване и моделиране на водопроводната мрежа | C30: ПОС | D30: Разходи за персонал, външни услуги и СМР за проучване и моделиране
A31: 1.14 | B31: СКАДА за водоснабдяване | C31: ПОС | D31: Разширение на СКАДА и оборудване | E31: Съоръжение | F31: Нов актив
A32: 1.15 | B32: Оборудване, апаратура и машини за водоснабдяване | C32: ПОС | D32: Друго специализирано оборудване за водоснабдяване | E32: Съоръжение | F32: Нов актив
A34: 2 | B34: ОТВЕЖДАНЕ НА ОТПАДЪЧНИ ВОДИ: | G34: =SUM(G35:G42) -> 16.565857 | H34: 30.677513
A35: 2.1 | B35: Канализационни помпени станции | C35: ПОС | D35: Подмяна на съществуващи и монтаж на нови водомери, шахти и водомерни възли на водомерни зони | E35: Съоръжение | F35: Реконструкция/нов актив
A36: 2.2 | B36: Рехабилитация и разширение на главни канализационни колектори и клонове | C36: ПОС | D36: Подмяна на съществуващи и монтаж на нови регулатори за налягане | E36: ВиК инфраструктура | F36: Нов актив
A37: 2.3 | B37: Рехабилитация и разширение на канализационната мрежа над 10 м | C37: ПОС | D37: Разходи за персонал, външни услуги и СМР за проучване и моделиране
A38: 2.4 | B38: Сградни канализационни отклонения | C38: ПОС | D38: Подмяна и изграждане на нови. | E38: ВиК инфраструктура | F38: Реконструкция/нов актив
A39: 2.4.1 | D39: Изграждане на нови СКО | E39: ВиК инфраструктура | F39: Нов актив | G39: 9.8168041 | I39: 9 | J39: 1500 | K39: =I39*J39 -> 13500
A40: 2.4.2 | D40: Рехабилитация на съществуващи СКО | E40: ВиК инфраструктура | F40: Рехабилитация | G40: 6.7490528 | I40: 7 | J40: 1500 | K40: =I40*J40 -> 10500
A41: 2.5 | B41: СКАДА за отвеждане на отпадъчни води | C41: ПОС
A42: 2.6 | B42: Проучване и моделиране на канализационната мрежа | C42: ПОС
A44: 3 | B44: ПРЕЧИСТВАНЕ НА ОТПАДЪЧНИ ВОДИ: | G44: =SUM(G45:G48) -> 158 | H44: 14.316173
A45: 3.1 | B45: Пречиствателни станции за отпадъчни води | C45: ПОС | D45: сгради, съоръжения | E45: Съоръжение | F45: Рехабилитация | G45: 146
A46: 3.2 | B46: Лаборатория за отпадъчни води | C46: ПОС | D46: апаратура и оборудване | E46: Съоръжение | F46: Нов актив
A47: 3.3 | B47: СКАДА за пречистване на отпадъчни води | C47: ПОС | D47: разширение на СКАДА и оборудване | E47: Съоръжение | F47: Нов актив | G47: 12
B49: ОБСЛУЖВАНЕ НА КЛИЕНТИ: | G49: 0
B50: Приходни водомери | D50: Подмяна на съществуващи и монтаж на нови приходни водомери на СВО, шахти и водомерни възли
A52: Общо инвестиции в ПОС : | G52: =G7+G34+G44+G49 -> 304.25437 | H52: =SUM(H7:H50) -> 144.6956 | J52: =G52-H52 -> 159.55877
A53: Общо за инвестиции за 2026г.:
A55: За срока на Договора за стопанисване, поддържане и експлоатация на ВиК системите и съоръженията и предоставяне на водоснабдителни и канализационни услуги Дружеството ще изпълни задължителното ниво на инвестиции.
A58: Забележка: Инвестициите в раздел Пречистване на отпадъчни води са инвестиции от самоучастие на "В и К" ООД Търговище по проект „Изграждане на ВиК инфраструктура за 7 ВиК оператора“, приоритет 1 „Води“ на Програма „Околна среда“ 2021-2027 г., като тези инвестиции ще бъдат реализирани след избор на Строител и изпълнение на СМР.
A61: 26.03.2026 г. | E61: Изготвил:
F62: /Марин Бъчваров/
E64: Управител:
F65: /инж.Явор Миланов/

Sheet ПИП 2026 ОБЩ.ОМУРТАГ
A1: ПОДРОБНА ИНВЕСТИЦИОННА ПРОГРАМА ЗА 2026 г.
A4: № | B4: Собственик | C4: Вид собственост | D4: Допълнителна информация | E4: Вид на актива (сграда/съоръжение/ВиК инфраструктура/оборудване) | F4: Вид дейност (реконструкция/нов актив) | G4: Индикативна стойност (хил. €) | H4: Стойност по Договор (хил. €)
B6: ОБЩИНСКА СОБСТВЕНОСТ ОБЩИНА ОМУРТАГ
A7: 1 | B7: ВОДОСНАБДЯВАНЕ: | G7: =SUM(G8:G31) -> 58.813015 | H7: 47.038853
A8: 1.1 | B8: Сондажи и каптажи | C8: ПОС | D8: Ремонт и реконструкциа на водовземни съоръжения | E8: Съоръжение | F8: Реконструкция
A9: 1.2 | B9: Санитарно-охранителни зони | C9: ПОС | D9: Рехабилитация и изграждане на нови | E9: Съоръжение | F9: Нов актив
A10: 1.2.1 | D10: Рехабилитация на Санитарно - охранителнните зони около водовземни съоръжения - Дренаж „ Обител “, каптиран извор „Кая пунар“ и КИ „Ак пунар“, в землището на с. Обител | E10: ВиК инфраструктура | F10: Рехабилитация | G10: 1
A11: 1.3 | B11: Довеждащи съоръжения | C11: ПОС | D11: Реконструкции и изграждане на нови довеждащи водопроводи | E11: Съоръжение | F11: Реконструкция/нов актив
A12: 1.3.2 | D12: Рехабилитация на част от напорен водопровод Ø100 АЦ от ПС I до НВ с.Пъдарино | E12: ВиК инфраструктура | F12: Рехабилитация | G12: 4.9084021
A13: 1.4 | B13: Пречиствателни станции за питейни води | C13: ПОС | D13: Реконструкция | E13: Съоръжение | F13: Реконструкция
A14: 1.5 | B14: Хлораторни станциии | C14: ПОС | D14: Рехабилитация и изграждане на нови сгради,съоръжения и оборудване | E14: Съоръжение | F14: Рехабилитация/нов актив
A15: 1.6 | B15: Помпени станции | C15: ПОС | D15: Рехабилитация и изграждане на нови сгради,съоръжения и оборудване | E15: сгради,съоръжения и оборудване | F15: Реконструкция
A16: 1.7 | B16: Рехабилитация и разширение на водопроводната мрежа над 10 м | C16: ПОС | D16: Рехабилитация и разширение на вътрешна водопроводна мрежа | E16: Съоръжение | F16: Реконструкция/нов актив
A17: 1.7.1. | D17: Рехабилитация на уличен водопровод Ø60 Етернит в с.Зелена Морава, общ.Омуртаг | E17: ВиК инфраструктура | F17: Рехабилитация | G17: 23.92846
A18: 1.7.2. | D18: Рехабилитация на уличен водопровод Ø80 Етернит (Колонията) в с.Зелена Морава, общ.Омуртаг | E18: ВиК инфраструктура | F18: Рехабилитация | G18: 7.9761533
A19: 1.8 | B19: Сградни водопроводни отклонения | C19: ПОС | D19: Подмяна и изграждане на нови. | E19: ВиК инфраструктура | F19: Реконструкция/нов актив
A20: 1.8.1. | D20: Изграждане на нови СВО | E20: ВиК инфраструктура | F20: Нов актив | G20: 9
A21: 1.8.2. | D21: Рехабилитация на съществуващи СВО | E21: ВиК инфраструктура | F21: Реконструкция | G21: 5
A22: 1.8.3. | D22: РиМ ВВМ гр. Омуртаг II етап, „Средна зона“, водомерни възли , гр.Омуртаг - прехвърляне на връзка към ПЕ СВО. | E22: ВиК инфраструктура | F22: Нови обекти и Реконструкция | G22: 5
A23: 1.9 | B23: Кранове и хидранти | C23: ПОС | D23: Подмяна на съществуващи и монтаж на нови СК и ПХ (в случаите, когато подмяната им не е част от реконструкция на ВиК мрежата) | E23: ВиК инфраструктура | F23: Реконструкция
A24: 1.10 | B24: Измерване на вход ВС | C24: ПОС | D24: Подмяна на съществуващи и монтаж на нови водомери, водомерни шахти и възли на водоизточници | E24: Съоръжение | F24: Реконструкция/нов актив
A25: 1.11 | B25: Зониране на водопроводната мрежа-контролно измерване | C25: ПОС | D25: Подмяна на съществуващи и монтаж на нови водомери, шахти и водомерни възли на водомерни зони | E25: Съоръжение | F25: Реконструкция/нов актив
A26: 1.12 | B26: Управление на налягането | C26: ПОС | D26: Подмяна на съществуващи и монтаж на нови регулатори за налягане | E26: ВиК инфраструктура | F26: Нов актив
D27: Изграждане на система за управление между ПС Камбурово и НВ Камбурово | E27: ВиК инфраструктура | F27: Нов актив | G27: 2
A28: 1.13 | B28: Проучване и моделиране на водопроводната мрежа | C28: ПОС | D28: Разходи за персонал, външни услуги и СМР за проучване и моделиране
A29: 1.14 | B29: СКАДА за водоснабдяване | C29: ПОС | D29: Разширение на СКАДА и оборудване | E29: Съоръжение | F29: Нов актив
A30: 1.15 | B30: Оборудване, апаратура и машини за водоснабдяване | C30: ПОС | D30: Друго специализирано оборудване за водоснабдяване | E30: Съоръжение | F30: Нов актив
A32: 2 | B32: ОТВЕЖДАНЕ НА ОТПАДЪЧНИ ВОДИ: | G32: =SUM(G33:G41) -> 4.9084021 | H32: 14.827465
A33: 2.1 | B33: Канализационни помпени станции | C33: ПОС | D33: сгради,съоръжения | E33: Съоръжение | F33: Рехабилитация
A34: 2.2 | B34: Рехабилитация и разширение на главни канализационни колектори и клонове | C34: ПОС | D34: реконструкции и изграждане на главни канализационни колектори и клонове | E34: Съоръжение | F34: Рехабилитация
A35: 2.3 | B35: Рехабилитация и разширение на канализационната мрежа над 10 м | C35: ПОС | D35: реконструкции и изграждане на нови канали над 10 м | E35: Съоръжение | F35: Рехабилитация
A36: 2.4 | B36: Сградни канализационни отклонения | C36: ПОС | D36: Подмяна и изграждане на нови. | E36: ВиК инфраструктура | F36: Реконструкция/нов актив
A37: 2.4.1 | D37: Изграждане на нови СКО | E37: ВиК инфраструктура | F37: Нов актив | G37: 3.0677513
A38: 2.4.2 | D38: Рехабилитация на съществуващи СКО | E38: ВиК инфраструктура | F38: Рехабилитация | G38: 1.8406508
A39: 2.5 | B39: СКАДА за отвеждане на отпадъчни води | C39: ПОС | D39: разширение на СКАДА и оборудване | E39: Съоръжение | F39: Нов актив
A40: 2.6 | B40: Проучване и моделиране на канализационната мрежа | C40: ПОС | D40: разходи за персонал, външни услуги и СМР за проучване и моделиране | E40: ВиК инфраструктура
A42: 3 | B42: ПРЕЧИСТВАНЕ НА ОТПАДЪЧНИ ВОДИ: | G42: =SUM(G43:G45) -> 0 | H42: 7.1580863
A43: 3.1 | B43: Пречиствателни станции за отпадъчни води | C43: ПОС | D43: сгради, съоръжения | E43: Съоръжение | F43: Рехабилитация
A44: 3.2 | B44: Лаборатория за отпадъчни води | C44: ПОС | D44: Апаратура и оборудване за пробовземачен пункт | E44: Съоръжение | F44: Нов актив
A45: 3.3 | B45: СКАДА за пречистване на отпадъчни води | C45: ПОС | D45: разширение на СКАДА и оборудване | E45: Съоръжение | F45: Нов актив
B47: ОБСЛУЖВАНЕ НА КЛИЕНТИ:
B48: Приходни водомери | D48: Подмяна на съществуващи и монтаж на нови приходни водомери на СВО, шахти и водомерни възли
A49: Общо инвестиции в ПОС : | G49: =SUM(G8:G46) -> 68.62982 | H49: =SUM(H7:H48) -> 69.024404
A50: Общо за инвестиции за 2026г.:
A52: За срока на Договора за стопанисване, поддържане и експлоатация на ВиК системите и съоръженията и предоставяне на водоснабдителни и канализационни услуги Дружеството ще изпълни задължителното ниво на инвестиции.
A56: 26.03.2026 г. | E56: Изготвил:
F57: /Марин Бъчваров/
E59: Управител:
F60: /инж.Явор Миланов/

Sheet ПИП 2026 ОБЩ.АНТОНОВО
A1: ПОДРОБНА ИНВЕСТИЦИОННА ПРОГРАМА ЗА 2026 г.
A4: № | B4: Собственик | C4: Вид собственост | D4: Допълнителна информация | E4: Вид на актива (сграда/съоръжение/ВиК инфраструктура/оборудване) | F4: Вид дейност (реконструкция/нов актив) | G4: Индикативна стойност (хил. €) | H4: Стойност по Договор (хил. €)
B6: ОБЩИНСКА СОБСТВЕНОСТ ОБЩИНА АНТОНОВО
A7: 1 | B7: ВОДОСНАБДЯВАНЕ: | G7: =SUM(G8:G35) -> 51.118402 | H7: 35.790432
A8: 1.1 | B8: Сондажи и каптажи | C8: ПОС | D8: Ремонт и реконструкциа на водовземни съоръжения | E8: Съоръжение | F8: Реконструкция
A9: 1.2 | B9: Санитарно-охранителни зони | C9: ПОС | D9: Рехабилитация и изграждане на нови | E9: Съоръжение | F9: Нов актив
A10: 1.3 | B10: Довеждащи съоръжения | C10: ПОС | D10: Реконструкции и изграждане на нови довеждащи водопроводи | E10: Съоръжение | F10: Реконструкция/нов актив
A11: 1.3.1 | D11: Рехабилитация на част от довеждащ водопроводØ89 стом. Ак Дере | E11: ВиК инфраструктура | F11: Реконструкция | G11: 1.53
A12: 1.4 | B12: Пречиствателни станции за питейни води | C12: ПОС | D12: Реконструкция | E12: Съоръжение | F12: Реконструкция
A13: 1.4.1 | C13: ПОС | D13: Подмяна или ремонт на съществуващ ПА за промивна вода на пясъчни вани в ПСПВ Ястребино | E13: Оборудване | F13: Реконструкция/нов актив | G13: 4
A14: 1.5 | B14: Хлораторни станциии | C14: ПОС | D14: Рехабилитация и изграждане на нови сгради,съоръжения и оборудване | E14: Съоръжение | F14: Рехабилитация/нов актив
A15: 1.6 | B15: Помпени станции | C15: ПОС | D15: Рехабилитация и изграждане на нови сгради,съоръжения и оборудване | E15: сгради,съоръжения и оборудване | F15: Реконструкция
A16: 1.6.2 | D16: СМР ПС Антоново – ремонт на сградата състоящ се от ремонт на покрив и стени | E16: Сгради | F16: Реконструкция | G16: 4.9084021
A17: 1.6.4 | D17: Ремонт на съществуваща помпа в ПС „Орач“ 3МС 14х7-10KW H 40 метра | E17: Оборудване | F17: Реконструкция/нов актив | G17: 3
D18: СМР Черпател към ПС Изворово – разрушен таван / измазване/ | E18: Сгради | F18: Реконструкция | G18: 2
A19: 1.6.5 | D19: Реконструкция на ПС Кара дере и трафопост | E19: Сгради | F19: Реконструкция | G19: 5
A20: 1.7 | B20: Рехабилитация и разширение на водопроводната мрежа над 10 м | C20: ПОС | D20: Рехабилитация и разширение на вътрешна водопроводна мрежа | E20: Съоръжение | F20: Рехабилитация
A21: 1.7.1 | D21: Рехабилитация на ВВМ, кв.Еревиш, гр.Антоново -Ø80АЦ | E21: ВиК инфраструктура | F21: Рехабилитация | G21: 7.98
A22: 1.7.2 | D22: Рехабилитация на ВВМ с.Любичево Ø80АЦ | E22: ВиК инфраструктура | F22: Рехабилитация | G22: 15.96
A23: 1.8 | B23: Сградни водопроводни отклонения | C23: ПОС | D23: Подмяна и изграждане на нови. | E23: ВиК инфраструктура | F23: Реконструкция/нов актив
A24: 1.8.1. | D24: Изграждане на нови СВО | E24: ВиК инфраструктура | F24: Нов актив | G24: 3.06
A25: 1.8.2. | D25: Рехабилитация на съществуващи СВО | E25: ВиК инфраструктура | F25: Рехабилитация | G25: 1.84
A26: 1.9 | B26: Кранове и хидранти | C26: ПОС | D26: Подмяна на съществуващи и монтаж на нови СК и ПХ (в случаите, когато подмяната им не е част от реконструкция на ВиК мрежата) | E26: ВиК инфраструктура | F26: Реконструкция
D27: Монтаж на ПХ | E27: ВиК инфраструктура | F27: Нов актив | G27: 0.61
D28: Монтаж на СК | E28: ВиК инфраструктура | F28: Нов актив | G28: 1.23
A29: 1.1 | B29: Измерване на вход ВС | C29: ПОС | D29: Подмяна на съществуващи и монтаж на нови водомери, водомерни шахти и възли на водоизточници | E29: Съоръжение | F29: Реконструкция/нов актив
A30: 1.11 | B30: Зониране на водопроводната мрежа-контролно измерване | C30: ПОС | D30: Подмяна на съществуващи и монтаж на нови водомери, шахти и водомерни възли на водомерни зони | E30: Съоръжение | F30: Реконструкция/нов актив
A31: 1.12 | B31: Управление на налягането | C31: ПОС | D31: Подмяна на съществуващи и монтаж на нови регулатори за налягане | E31: ВиК инфраструктура | F31: Нов актив
A32: 1.13 | B32: Проучване и моделиране на водопроводната мрежа | C32: ПОС | D32: Разходи за персонал, външни услуги и СМР за проучване и моделиране
A33: 1.14 | B33: СКАДА за водоснабдяване | C33: ПОС | D33: Разширение на СКАДА и оборудване | E33: Съоръжение | F33: Нов актив
A34: 1.15 | B34: Оборудване, апаратура и машини за водоснабдяване | C34: ПОС | D34: Друго специализирано оборудване за водоснабдяване | E34: Съоръжение | F34: Нов актив
A36: 2 | B36: ОТВЕЖДАНЕ НА ОТПАДЪЧНИ ВОДИ: | G36: =SUM(G37:G44) -> 4.9084021 | H36: 10.73713
A37: 2.1 | B37: Канализационни помпени станции | C37: ПОС | D37: сгради,съоръжения | E37: Съоръжение | F37: Рехабилитация
A38: 2.2 | B38: Рехабилитация и разширение на главни канализационни колектори и клонове | C38: ПОС | D38: реконструкции и изграждане на главни канализационни колектори и клонове | E38: Съоръжение | F38: Рехабилитация
A39: 2.3 | B39: Рехабилитация и разширение на канализационната мрежа над 10 м | C39: ПОС | D39: реконструкции и изграждане на нови канали над 10 м | E39: Съоръжение | F39: Рехабилитация
A40: 2.4 | B40: Сградни канализационни отклонения | C40: ПОС | D40: Подмяна и изграждане на нови. | E40: ВиК инфраструктура | F40: Реконструкция/нов актив
A41: 2.4.1 | C41: ПОС | D41: Изграждане на нови СКО | E41: ВиК инфраструктура | F41: Нов актив | G41: 3.0677513
A42: 2.4.2 | C42: ПОС | D42: Рехабилитация на съществуващи СКО | E42: ВиК инфраструктура | F42: Рехабилитация | G42: 1.8406508
A43: 2.5 | B43: СКАДА за отвеждане на отпадъчни води | C43: ПОС | D43: разширение на СКАДА и оборудване | E43: Съоръжение | F43: Нов актив
A44: 2.6 | B44: Проучване и моделиране на канализационната мрежа | C44: ПОС | D44: разходи за персонал, външни услуги и СМР за проучване и моделиране | E44: ВиК инфраструктура
A46: 3 | B46: ПРЕЧИСТВАНЕ НА ОТПАДЪЧНИ ВОДИ: | G46: =SUM(G47:G50) -> 0 | H46: 6.1355026
A47: 3.1 | B47: Пречиствателни станции за отпадъчни води | C47: ПОС | D47: сгради, съоръжения | E47: Съоръжение | F47: Рехабилитация
A48: 3.2 | B48: Лаборатория за отпадъчни води | C48: ПОС | D48: апаратура и оборудване | E48: Съоръжение | F48: Нов актив
A49: 3.3 | B49: СКАДА за пречистване на отпадъчни води | C49: ПОС | D49: Разширение на СКАДА и оборудване | E49: Съоръжение | F49: Нов актив
B51: ОБСЛУЖВАНЕ НА КЛИЕНТИ: | G51: 0
B52: Приходни водомери | D52: Подмяна на съществуващи и монтаж на нови приходни водомери на СВО, шахти и водомерни възли
A53: Общо инвестиции в ПОС : | G53: =G7+G36+G46+G51 -> 56.026804 | H53: =SUM(H7:H52) -> 52.663064
A54: Общо за инвестиции за 2026г.:
A57: За срока на Договора за стопанисване, поддържане и експлоатация на ВиК системите и съоръженията и предоставяне на водоснабдителни и канализационни услуги Дружеството ще изпълни задължителното ниво на инвестиции.
A60: 26.03.2026 г. | E60: Изготвил:
F61: /Марин Бъчваров/
E64: Управител:
F65: /инж.Явор Миланов/

Sheet ПИП 2026 ОБЩ.ПОПОВО
A1: ПОДРОБНА ИНВЕСТИЦИОННА ПРОГРАМА ЗА 2026 г.
A4: № | B4: Собственик | C4: Вид собственост | D4: Допълнителна информация | E4: Вид на актива (сграда/съоръжение/ВиК инфраструктура/оборудване) | F4: Вид дейност (реконструкция/нов актив) | G4: Индикативна стойност (хил. €) | H4: Стойност по Договор (хил. €)
B6: ОБЩИНСКА СОБСТВЕНОСТ ОБЩИНА ПОПОВО
A7: 1 | B7: ВОДОСНАБДЯВАНЕ: | G7: =SUM(G8:G29) -> 65.306508 | H7: 52.151772
A8: 1.1 | B8: Сондажи и каптажи | C8: ПОС | D8: Ремонт и реконструкциа на водовземни съоръжения | E8: Съоръжение | F8: Реконструкция
A9: 1.2 | B9: Санитарно-охранителни зони | C9: ПОС | D9: Рехабилитация и изграждане на нови | E9: Съоръжение | F9: Нов актив
A11: 1.3 | B11: Довеждащи съоръжения | C11: ПОС | D11: Реконструкции и изграждане на нови довеждащи водопроводи | E11: Съоръжение | F11: Реконструкция/нов актив
A12: 1.3.1. | D12: Рехабилитация на част от напорен водопровод Ø100 АЦ от ПС Баладжа Ковачевец до НВ "Ветите лозя" | E12: ВиК инфраструктура | F12: Рехабилитация | G12: 9.2032539
A13: 1.4 | B13: Пречиствателни станции за питейни води | C13: ПОС | D13: Реконструкция | E13: Съоръжение | F13: Реконструкция
A14: 1.5 | B14: Хлораторни станциии | C14: ПОС | D14: Рехабилитация и изграждане на нови сгради,съоръжения и оборудване | E14: Съоръжение | F14: Рехабилитация/нов актив
A15: 1.6 | B15: Помпени станции | C15: ПОС | D15: Рехабилитация и изграждане на нови сгради,съоръжения и оборудване | E15: сгради,съоръжения и оборудване | F15: Реконструкция
A16: 1.7 | B16: Рехабилитация и разширение на водопроводната мрежа над 10 м | C16: ПОС | D16: Рехабилитация и разширение на вътрешна водопроводна мрежа | E16: Съоръжение | F16: Рехабилитация
A17: 1.7.1 | D17: Реконструкция на част от хранителен водопровод Ø200 АЦ от НВ Светлен до ВВМ с.Светлен | E17: ВиК инфраструктура | F17: Рехабилитация | G17: 19.9
A18: 1.8 | B18: Сградни водопроводни отклонения | C18: ПОС | D18: Подмяна и изграждане на нови. | E18: ВиК инфраструктура | F18: Реконструкция/нов актив
A19: 1.8.1. | D19: Рехабилитация на съществуващи СВО | E19: ВиК инфраструктура | F19: Рехабилитация | G19: 15
A20: 1.8.2. | D20: Изграждане на нови СВО | E20: ВиК инфраструктура | F20: Нов актив | G20: 9.2032539
A21: 1.9 | B21: Кранове и хидранти | C21: ПОС | D21: Подмяна на съществуващи и монтаж на нови СК и ПХ (в случаите, когато подмяната им не е част от реконструкция на ВиК мрежата) | E21: ВиК инфраструктура | F21: Реконструкция
A22: 1.9.1. | C22: ПОС | D22: Монтаж на СК | E22: ВиК инфраструктура | F22: Реконструкция | G22: 6
A23: 1.9.2. | C23: ПОС | D23: Монтаж на ПХ | E23: ВиК инфраструктура | F23: Реконструкция | G23: 6
A24: 1.10. | B24: Измерване на вход ВС | C24: ПОС | D24: Подмяна на съществуващи и монтаж на нови водомери, водомерни шахти и възли на водоизточници | E24: Съоръжение | F24: Реконструкция/нов актив
A25: 1.11 | B25: Зониране на водопроводната мрежа-контролно измерване | C25: ПОС | D25: Подмяна на съществуващи и монтаж на нови водомери, шахти и водомерни възли на водомерни зони | E25: Съоръжение | F25: Реконструкция/нов актив
A26: 1.12 | B26: Управление на налягането | C26: ПОС | D26: Подмяна на съществуващи и монтаж на нови регулатори за налягане | E26: ВиК инфраструктура | F26: Нов актив
A27: 1.13 | B27: Проучване и моделиране на водопроводната мрежа | C27: ПОС | D27: Разходи за персонал, външни услуги и СМР за проучване и моделиране
A28: 1.14 | B28: СКАДА за водоснабдяване | C28: ПОС | D28: Разширение на СКАДА и оборудване | E28: Съоръжение | F28: Нов актив
A29: 1.15 | B29: Оборудване, апаратура и машини за водоснабдяване | C29: ПОС | D29: Друго специализирано оборудване за водоснабдяване | E29: Съоръжение | F29: Нов актив
A30: 2 | B30: ОТВЕЖДАНЕ НА ОТПАДЪЧНИ ВОДИ: | G30: =SUM(G31:G38) -> 12 | H30: 16.872632
A31: 2.1 | B31: Канализационни помпени станции | C31: ПОС | D31: сгради,съоръжения | E31: Съоръжение | F31: Рехабилитация
A32: 2.2 | B32: Рехабилитация и разширение на главни канализационни колектори и клонове | C32: ПОС | D32: Рехабилитация на главен канализационен колектор | E32: Съоръжение | F32: Рехабилитация
A33: 2.3 | B33: Рехабилитация и разширение на канализационната мрежа над 10 м | C33: ПОС | D33: реконструкции и изграждане на нови канали над 10 м | E33: Съоръжение | F33: Рехабилитация
A34: 2.4 | B34: Сградни канализационни отклонения | C34: ПОС | D34: Подмяна и изграждане на нови. | E34: ВиК инфраструктура | F34: Реконструкция/нов актив
A35: 2.4.1 | D35: Изграждане на нови СКО | E35: ВиК инфраструктура | F35: Нов актив | G35: 6
A36: 2.4.2 | D36: Рехабилитация на съществуващи СКО | E36: ВиК инфраструктура | F36: Рехабилитация | G36: 6
A37: 2.5 | B37: СКАДА за отвеждане на отпадъчни води | C37: ПОС | D37: разширение на СКАДА и оборудване | E37: Съоръжение | F37: Нов актив
A38: 2.6 | B38: Проучване и моделиране на канализационната мрежа | C38: ПОС | D38: разходи за персонал, външни услуги и СМР за проучване и моделиране | E38: ВиК инфраструктура
A39: 3 | B39: ПРЕЧИСТВАНЕ НА ОТПАДЪЧНИ ВОДИ: | G39: =SUM(G40:G42) -> 106 | H39: 9.2032539
A40: 3.1 | B40: Пречиствателни станции за отпадъчни води | C40: ПОС | D40: сгради, съоръжения | E40: Съоръжение | F40: Рехабилитация | G40: 98
A41: 3.2 | B41: Лаборатория за отпадъчни води | C41: ПОС | D41: апаратура и оборудване | E41: Съоръжение | F41: Нов актив
A42: 3.3 | B42: СКАДА за пречистване на отпадъчни води | C42: ПОС | D42: Разширение на СКАДА и оборудване | E42: Съоръжение | F42: Рехабилитация | G42: 8
B44: ОБСЛУЖВАНЕ НА КЛИЕНТИ: | G44: 0
B45: Приходни водомери | D45: Подмяна на съществуващи и монтаж на нови приходни водомери на СВО, шахти и водомерни възли
A46: Общо инвестиции в ПОС : | G46: =G7+G30+G39+G44 -> 183.30651 | H46: =SUM(H7:H45) -> 78.227658
A47: Общо за инвестиции за 2026г.:
A49: За срока на Договора за стопанисване, поддържане и експлоатация на ВиК системите и съоръженията и предоставяне на водоснабдителни и канализационни услуги Дружеството ще изпълни задължителното ниво на инвестиции.
A52: Забележка: Инвестициите в раздел Пречистване на отпадъчни води са инвестиции от самоучастие на "В и К" ООД Търговище по проект „Изграждане на ВиК инфраструктура за 7 ВиК оператора“, приоритет 1 „Води“ на Програма „Околна среда“ 2021-2027 г., като тези инвестиции ще бъдат реализирани след избор на Строител и изпълнение на СМР.
A55: 26.03.2026 г. | E55: Изготвил:
F56: /Марин Бъчваров/
E58: Управител:
F59: /инж.Явор Миланов/

Sheet ПИП 2026 ОБЩ.ОПАКА
A1: ПОДРОБНА ИНВЕСТИЦИОННА ПРОГРАМА ЗА 2026 г.
A4: № | B4: Собственик | C4: Вид собственост | D4: Допълнителна информация | E4: Вид на актива (сграда/съоръжение/ВиК инфраструктура/оборудване) | F4: Вид дейност (реконструкция/нов актив) | G4: Индикативна стойност (хил. €) | H4: Стойност по Договор (хил. €)
B6: ОБЩИНСКА СОБСТВЕНОСТ ОБЩИНА ОПАКА
A7: 1 | B7: ВОДОСНАБДЯВАНЕ: | G7: =SUM(G8:G29) -> 46.466804 | H7: 21.985551
A8: 1.1 | B8: Сондажи и каптажи | C8: ПОС | D8: Ремонт и реконструкциа на водовземни съоръжения | E8: Съоръжение | F8: Реконструкция
A9: 1.2 | B9: Санитарно-охранителни зони | C9: ПОС | D9: Рехабилитация и изграждане на нови | E9: Съоръжение | F9: Нов актив
A10: 1.3 | B10: Довеждащи съоръжения | C10: ПОС | D10: Реконструкции и изграждане на нови довеждащи водопроводи | E10: Съоръжение | F10: Реконструкция/нов актив
D11: Рехабилитация на част от гравитачен водопровод от каптаж до населено място с.Крепча | E11: ВиК инфраструктура | F11: Рехабилитация | G11: 5
D12: Рехабилитация на част напорен водопровод с.Г. Абланово, от ПС до водоем | E12: ВиК инфраструктура | F12: Рехабилитация | G12: 7.65
A13: 1.4 | B13: Пречиствателни станции за питейни води | C13: ПОС | D13: Реконструкция | E13: Съоръжение | F13: Реконструкция
A14: 1.5 | B14: Хлораторни станциии | C14: ПОС | D14: Рехабилитация и изграждане на нови сгради,съоръжения и оборудване | E14: Съоръжение | F14: Рехабилитация/нов актив
A15: 1.6 | B15: Помпени станции | C15: ПОС | D15: Рехабилитация и изграждане на нови сгради,съоръжения и оборудване | E15: сгради,съоръжения и оборудване | F15: Реконструкция
A16: 1.6.1 | D16: ДС Опака - нова хидравлика на ПА | E16: Оборудване | F16: Нов актив | G16: 0.61355026
A17: 1.7 | B17: Рехабилитация и разширение на водопроводната мрежа над 10 м | C17: ПОС | D17: Рехабилитация и разширение на вътрешна водопроводна мрежа | E17: ВиК инфраструктура | F17: Рехабилитация
A18: 1.7.1 | D18: Рехабилитация на част от уличен водопровод Ø125АЦ по ул. В. Левски, гр.Опака | E18: ВиК инфраструктура | F18: Рехабилитация | G18: 24
A19: 1.8 | B19: Сградни водопроводни отклонения | D19: Подмяна и изграждане на нови. | E19: ВиК инфраструктура | F19: Реконструкция/нов актив
A20: 1.8.1. | C20: ПОС | D20: Изграждане на нови СВО | E20: ВиК инфраструктура | F20: Нов актив | G20: 4.2948518
A21: 1.8.1. | C21: ПОС | D21: Рехабилитация на съществуващи СВО | E21: ВиК инфраструктура | F21: Рехабилитация | G21: 4.9084021
A22: 1.9 | B22: Кранове и хидранти | C22: ПОС | D22: Подмяна на съществуващи и монтаж на нови СК и ПХ (в случаите, когато подмяната им не е част от реконструкция на ВиК мрежата) | E22: Съоръжение | F22: Рехабилитация
A23: 1.1 | B23: Измерване на вход ВС | C23: ПОС | D23: Подмяна на съществуващи и монтаж на нови водомери, водомерни шахти и възли на водоизточници | E23: Съоръжение | F23: Рехабилитация
A24: 1.11 | B24: Зониране на водопроводната мрежа-контролно измерване | C24: ПОС | D24: Подмяна на съществуващи и монтаж на нови водомери, шахти и водомерни възли на водомерни зони | E24: Съоръжение | F24: Рехабилитация
A25: 1.12 | B25: Управление на налягането | C25: ПОС | D25: Подмяна на съществуващи и монтаж на нови регулатори за налягане | E25: Съоръжение | F25: Рехабилитация
A26: 1.13 | B26: Проучване и моделиране на водопроводната мрежа | C26: ПОС | D26: Разходи за персонал, външни услуги и СМР за проучване и моделиране | E26: Съоръжение | F26: Рехабилитация
A27: 1.14 | B27: СКАДА за водоснабдяване | C27: ПОС | D27: Разширение на СКАДА и оборудване | E27: Съоръжение | F27: Рехабилитация
A28: 1.15 | B28: Оборудване, апаратура и машини за водоснабдяване | C28: ПОС | D28: Друго специализирано оборудване за водоснабдяване | E28: Съоръжение | F28: Нов актив
A30: 2 | B30: ОТВЕЖДАНЕ НА ОТПАДЪЧНИ ВОДИ: | H30: 10.225838
A31: 2.1 | B31: Канализационни помпени станции | C31: ПОС | D31: сгради,съоръжения | E31: Съоръжение | F31: Нов актив
A32: 2.2 | B32: Рехабилитация и разширение на главни канализационни колектори и клонове | C32: ПОС | D32: Реконструкция и модернизация на Канализационна мрежа, ревизионни шахти и заустващо съоръжение | E32: Съоръжение | F32: Нов актив
A33: 2.3 | B33: Рехабилитация и разширение на канализационната мрежа над 10 м | C33: ПОС | D33: Реконструкции и изграждане на нови канали над 10 м | E33: Съоръжение | F33: Нов актив
A34: 2.4 | B34: Сградни канализационни отклонения | C34: ПОС | D34: Подмяна и изграждане на нови. | E34: ВиК инфраструктура | F34: Реконструкция/нов актив
A35: 2.5 | B35: СКАДА за отвеждане на отпадъчни води | C35: ПОС | D35: разширение на СКАДА и оборудване | E35: Съоръжение | F35: Нов актив
A36: 2.6 | B36: Проучване и моделиране на канализационната мрежа | C36: ПОС | D36: разходи за персонал, външни услуги и СМР за проучване | E36: ВиК инфраструктура
A38: 3 | B38: ПРЕЧИСТВАНЕ НА ОТПАДЪЧНИ ВОДИ: | H38: 3.5790432
A39: 3.1 | B39: Пречиствателни станции за отпадъчни води | C39: ПОС | D39: сгради, съоръжения | E39: Съоръжение | F39: Рехабилитация
A40: 3.2 | B40: Лаборатория за отпадъчни води | C40: ПОС | D40: апаратура и оборудване | E40: Съоръжение | F40: Нов актив
A41: 3.3 | B41: СКАДА за пречистване на отпадъчни води | C41: ПОС | D41: Разширение на СКАДА и оборудване | E41: Съоръжение | F41: Нов актив
B43: ОБСЛУЖВАНЕ НА КЛИЕНТИ:
B44: Приходни водомери | D44: Подмяна на съществуващи и монтаж на нови приходни водомери на СВО, шахти и водомерни възли
A45: Общо инвестиции в ПОС : | G45: =G7+G30+G38+G43 -> 46.466804 | H45: =SUM(H7:H44) -> 35.790432
A46: Общо за инвестиции за 2026г.:
A49: За срока на Договора за стопанисване, поддържане и експлоатация на ВиК системите и съоръженията и предоставяне на водоснабдителни и канализационни услуги Дружеството ще изпълни задължителното ниво на инвестиции.
A53: 26.03.2026 г. | E53: Изготвил:
F54: /Марин Бъчваров/
E56: Управител:
F57: /инж.Явор Миланов/

Sheet ПИП 2026 ОБОБЩЕНА
A1: ПОДРОБНА ИНВЕСТИЦИОННА ПРОГРАМА ЗА 2026 г.
A4: № | B4: Собственик | C4: Вид собственост | D4: Допълнителна информация | E4: Вид на актива (сграда/съоръжение/ВиК инфраструктура/оборудване) | F4: Вид дейност (реконструкция/нов актив) | G4: Индикативна стойност (хил. €) | H4: Стойност по Договор (хил. €)
B6: ОБОБЩЕНО: ИНВЕСТИЦИИ В ПУБЛИЧНА ДЪЛРЖАВНА И ПУБЛИЧНА ОБЩИНСКА СОБСТВЕНОСТ
A7: 1 | B7: ВОДОСНАБДЯВАНЕ: | G7: =SUM(G8:G23) -> 381.39325 | H7: 288.36862
A8: 1.1 | B8: Сондажи и каптажи | C8: ПДС и ПОС | D8: Ремонт и реконструкциа на водовземни съоръжения | E8: Съоръжение | F8: Реконструкция
A9: 1.2 | B9: Санитарно-охранителни зони | C9: ПДС и ПОС | D9: Рехабилитация и изграждане на нови | E9: Съоръжение | F9: Нов актив | G9: ='ПИП 2026 ОБЩ.ОМУРТАГ'!G10+'ПИП 2026 ОБЩ.ТЪРГОВИЩЕ'!G10+'ПИП 2026 ДЪРЖАВНА'!G10 -> 7
A10: 1.3 | B10: Довеждащи съоръжения | C10: ПДС и ПОС | D10: Реконструкции и изграждане на нови довеждащи водопроводи | E10: Съоръжение | F10: Реконструкция/нов актив | G10: ='ПИП 2026 ОБЩ.ОПАКА'!G11+'ПИП 2026 ОБЩ.ОПАКА'!G12+'ПИП 2026 ОБЩ.ПОПОВО'!G12+'ПИП 2026 ОБЩ.АНТОНОВО'!G11+'ПИП 2026 ОБЩ.ОМУРТАГ'!G12+'ПИП 2026 ОБЩ.ТЪРГОВИЩЕ'!G12+'ПИП 2026 ОБЩ.ТЪРГОВИЩЕ'!G13+'ПИП 2026 ДЪРЖАВНА'!G11 -> 82.891656
A11: 1.4 | B11: Пречиствателни станции за питейни води | C11: ПДС и ПОС | D11: Реконструкция | E11: Съоръжение | F11: Реконструкция | G11: 4
A12: 1.5 | B12: Хлораторни станциии | C12: ПДС и ПОС | D12: Рехабилитация и изграждане на нови сгради,съоръжения и оборудване | E12: Съоръжение | F12: Рехабилитация/нов актив
A13: 1.6 | B13: Помпени станции | C13: ПДС и ПОС | D13: Рехабилитация и изграждане на нови сгради,съоръжения и оборудване | E13: сгради,съоръжения и оборудване | F13: Рехабилитация | G13: ='ПИП 2026 ОБЩ.ОПАКА'!G16+'ПИП 2026 ОБЩ.АНТОНОВО'!G16+'ПИП 2026 ОБЩ.АНТОНОВО'!G17+'ПИП 2026 ОБЩ.АНТОНОВО'!G18+'ПИП 2026 ОБЩ.АНТОНОВО'!G19+'ПИП 2026 ОБЩ.ТЪРГОВИЩЕ'!G18+'ПИП 2026 ОБЩ.ТЪРГОВИЩЕ'!G19+'ПИП 2026 ДЪРЖАВНА'!G15+'ПИП 2026 ДЪРЖАВНА'!G16 -> 60.521952
A14: 1.7 | B14: Рехабилитация и разширение на водопроводната мрежа над 10 м | C14: ПДС и ПОС | D14: Рехабилитация и разширение на вътрешна водопроводна мрежа | E14: Съоръжение | F14: Рехабилитация | G14: ='ПИП 2026 ОБЩ.ОПАКА'!G18+'ПИП 2026 ОБЩ.ПОПОВО'!G17+'ПИП 2026 ОБЩ.АНТОНОВО'!G21+'ПИП 2026 ОБЩ.АНТОНОВО'!G22+'ПИП 2026 ОБЩ.ОМУРТАГ'!G17+'ПИП 2026 ОБЩ.ОМУРТАГ'!G18+'ПИП 2026 ОБЩ.ТЪРГОВИЩЕ'!G21 -> 111.40207
A15: 1.8 | B15: Сградни водопроводни отклонения | C15: ПДС и ПОС | D15: Подмяна и изграждане на нови. | E15: ВиК инфраструктура | F15: Рехабилитация/нов актив | G15: ='ПИП 2026 ОБЩ.ОПАКА'!G20+'ПИП 2026 ОБЩ.ОПАКА'!G21+'ПИП 2026 ОБЩ.ПОПОВО'!G19+'ПИП 2026 ОБЩ.ПОПОВО'!G20+'ПИП 2026 ОБЩ.АНТОНОВО'!G24+'ПИП 2026 ОБЩ.АНТОНОВО'!G25+'ПИП 2026 ОБЩ.ОМУРТАГ'!G20+'ПИП 2026 ОБЩ.ОМУРТАГ'!G21+'ПИП 2026 ОБЩ.ОМУРТАГ'!G22+'ПИП 2026 ОБЩ.ТЪРГОВИЩЕ'!G23+'ПИП 2026 ОБЩ.ТЪРГОВИЩЕ'!G24 -> 88.597571
A16: 1.9 | B16: Кранове и хидранти | C16: ПДС и ПОС | D16: Подмяна на съществуващи и монтаж на нови СК и ПХ (в случаите, когато подмяната им не е част от реконструкция на ВиК мрежата) | E16: ВиК инфраструктура | F16: Реконструкция | G16: ='ПИП 2026 ОБЩ.ПОПОВО'!G22+'ПИП 2026 ОБЩ.ПОПОВО'!G23+'ПИП 2026 ОБЩ.АНТОНОВО'!G27+'ПИП 2026 ОБЩ.АНТОНОВО'!G28+'ПИП 2026 ОБЩ.ТЪРГОВИЩЕ'!G26 -> 19.98
A17: 1.1 | B17: Измерване на вход ВС | C17: ПДС и ПОС | D17: Подмяна на съществуващи и монтаж на нови водомери, водомерни шахти и възли на водоизточници | E17: Съоръжение | F17: Реконструкция/нов актив
A18: 1.11 | B18: Зониране на водопроводната мрежа-контролно измерване | C18: ПДС и ПОС | D18: Подмяна на съществуващи и монтаж на нови водомери, шахти и водомерни възли на водомерни зони | E18: Съоръжение | F18: Реконструкция/нов актив
A19: 1.12 | B19: Управление на налягането | C19: ПДС и ПОС | D19: Подмяна на съществуващи и монтаж на нови регулатори за налягане | E19: ВиК инфраструктура | F19: Нов актив | G19: 2
A20: 1.13 | B20: Проучване и моделиране на водопроводната мрежа | C20: ПДС и ПОС | D20: Разходи за персонал, външни услуги и СМР за проучване и моделиране
A21: 1.14 | B21: СКАДА за водоснабдяване | C21: ПДС и ПОС | D21: Разширение на СКАДА и оборудване | E21: Съоръжение | F21: Нов актив | G21: 5
A22: 1.15 | B22: Оборудване, апаратура и машини за водоснабдяване | C22: ПДС и ПОС | D22: Друго специализирано оборудване за водоснабдяване | E22: Съоръжение | F22: Нов актив
A24: 2 | B24: ОТВЕЖДАНЕ НА ОТПАДЪЧНИ ВОДИ: | G24: =SUM(G25:G30) -> 39 | H24: 83.340577
A25: 2.1 | B25: Канализационни помпени станции | C25: ПДС и ПОС | D25: сгради,съоръжения | E25: Съоръжение | F25: Рехабилитация
A26: 2.2 | B26: Рехабилитация и разширение на главни канализационни колектори и клонове | C26: ПДС и ПОС | D26: реконструкции и изграждане на главни канализационни колектори и клонове | E26: Съоръжение | F26: Рехабилитация
A27: 2.3 | B27: Рехабилитация и разширение на канализационната мрежа над 10 м | C27: ПДС и ПОС | D27: реконструкции и изграждане на нови канали над 10 м | E27: Съоръжение | F27: Рехабилитация
A28: 2.4 | B28: Сградни канализационни отклонения | C28: ПДС и ПОС | D28: Подмяна и изграждане на нови. | E28: ВиК инфраструктура | F28: Реконструкция/нов актив | G28: 39
A29: 2.5 | B29: СКАДА за отвеждане на отпадъчни води | C29: ПДС и ПОС | D29: разширение на СКАДА и оборудване | E29: Съоръжение | F29: Нов актив
A30: 2.6 | B30: Проучване и моделиране на канализационната мрежа | C30: ПДС и ПОС | D30: разходи за персонал, външни услуги и СМР за проучване и моделиране | E30: ВиК инфраструктура
A32: 3 | B32: ПРЕЧИСТВАНЕ НА ОТПАДЪЧНИ ВОДИ: | G32: =SUM(G33:G36) -> 264 | H32: 40.392059
A33: 3.1 | B33: Пречиствателни станции за отпадъчни води | C33: ПДС и ПОС | D33: сгради, съоръжения | E33: Съоръжение | F33: Рехабилитация | G33: 244
A34: 3.2 | B34: Лаборатория за отпадъчни води | C34: ПДС и ПОС | D34: апаратура и оборудване | E34: Съоръжение | F34: Нов актив
A35: 3.3 | B35: СКАДА за пречистване на отпадъчни води | C35: ПДС и ПОС | D35: Разширение на СКАДА и оборудване | E35: Съоръжение | F35: Нов актив | G35: 20
B37: ОБСЛУЖВАНЕ НА КЛИЕНТИ:
B38: Приходни водомери | D38: Подмяна на съществуващи и монтаж на нови приходни водомери на СВО, шахти и водомерни възли
A39: Общо инвестиции в ПДС и ПОС : | G39: =G32+G24+G7 -> 684.39325 | H39: =SUM(H7:H38) -> 412.10126
A40: Общо за инвестиции за 2026 г.:
A42: За срока на Договора за стопанисване, поддържане и експлоатация на ВиК системите и съоръженията и предоставяне на водоснабдителни и канализационни услуги Дружеството ще изпълни задължителното ниво на инвестиции.
A45: 26.03.2026 г. | E45: Изготвил:
F46: /Марин Бъчваров/
E48: Управител:
F49: /инж.Явор Миланов/
G51: 50
G52: 264
G53: 116
G54: 95
G55: 133
G56: 77
G57: =SUM(G51:G56) -> 735
